BEGIN:VCALENDAR
VERSION:2.0
PRODID:-//wp-events-plugin.com//6.6.4.4//EN
TZID:Asia/Tokyo
X-WR-TIMEZONE:Asia/Tokyo
BEGIN:VEVENT
UID:24@global-nagoyakko.net
DTSTART;TZID=Asia/Tokyo:20260426T100000
DTEND;TZID=Asia/Tokyo:20260426T120000
DTSTAMP:20260406T012657Z
URL:https://global-nagoyakko.net/events/chat1
SUMMARY:グローバルチャット 第1回目
DESCRIPTION:外国人講師や留学生と英語で交流し、様々な国
 や人、文化などについて楽しくチャット（おしゃべり
 ）します。\n外国と日本の違いや同じところを見つけて
 異文化を体験し、英語でのコミュニケーションを楽し
 みます。
CATEGORIES:小学生,中学生,高校生
LOCATION:グローバルエデュケーションセンター\, 東区泉一
 丁目1番4号\, 名古屋市\, 愛知県\, 4610001\, 日本
X-APPLE-STRUCTURED-LOCATION;VALUE=URI;X-ADDRESS=東区泉一丁目1番4号\
 , 名古屋市\, 愛知県\, 4610001\, 日本;X-APPLE-RADIUS=100;X-TITLE=
 グローバルエデュケーションセンター:geo:0,0
END:VEVENT
BEGIN:VTIMEZONE
TZID:Asia/Tokyo
X-LIC-LOCATION:Asia/Tokyo
BEGIN:STANDARD
DTSTART:20250426T100000
TZOFFSETFROM:+0900
TZOFFSETTO:+0900
TZNAME:JST
END:STANDARD
END:VTIMEZONE
END:VCALENDAR