BEGIN:VCALENDAR
VERSION:2.0
PRODID:-//wp-events-plugin.com//6.6.4.4//EN
TZID:Asia/Tokyo
X-WR-TIMEZONE:Asia/Tokyo
BEGIN:VEVENT
UID:25@global-nagoyakko.net
DTSTART;TZID=Asia/Tokyo:20260517T100000
DTEND;TZID=Asia/Tokyo:20260621T120000
DTSTAMP:20260327T011219Z
URL:https://global-nagoyakko.net/events/gg1
SUMMARY:グローバルガイド
DESCRIPTION:名古屋市を来訪する外国人に名古屋城の素晴ら
 しさや魅力などを英語で案内する4日間のプログラムで
 す。\n外国の人たちとのコミュニケーションを体感し英
 語の楽しさを体験してみませんか。
CATEGORIES:小学生,中学生,高校生
LOCATION:グローバルエデュケーションセンター\, 東区泉一
 丁目1番4号\, 名古屋市\, 愛知県\, 4610001\, 日本
X-APPLE-STRUCTURED-LOCATION;VALUE=URI;X-ADDRESS=東区泉一丁目1番4号\
 , 名古屋市\, 愛知県\, 4610001\, 日本;X-APPLE-RADIUS=100;X-TITLE=
 グローバルエデュケーションセンター:geo:0,0
END:VEVENT
BEGIN:VTIMEZONE
TZID:Asia/Tokyo
X-LIC-LOCATION:Asia/Tokyo
BEGIN:STANDARD
DTSTART:20250517T100000
TZOFFSETFROM:+0900
TZOFFSETTO:+0900
TZNAME:JST
END:STANDARD
END:VTIMEZONE
END:VCALENDAR